Package: COSNet Version: 1.45.0 Command: /Library/Frameworks/R.framework/Resources/bin/R CMD build --keep-empty-dirs --no-resave-data COSNet StartedAt: 2025-11-16 21:37:29 -0500 (Sun, 16 Nov 2025) EndedAt: 2025-11-16 21:43:04 -0500 (Sun, 16 Nov 2025) EllapsedTime: 335.1 seconds RetCode: 0 Status: OK PackageFile: COSNet_1.45.0.tar.gz PackageFileSize: 518.9 KiB