Package: COSNet Version: 1.45.0 Command: rm -rf COSNet.buildbin-libdir && mkdir COSNet.buildbin-libdir && /Users/biocbuild/BBS/utils/build-universal.sh COSNet_1.45.0.tar.gz /Library/Frameworks/R.framework/Resources/bin/R COSNet.buildbin-libdir StartedAt: 2025-11-17 06:50:43 -0500 (Mon, 17 Nov 2025) EndedAt: 2025-11-17 06:50:50 -0500 (Mon, 17 Nov 2025) EllapsedTime: 7.2 seconds RetCode: 0 Status: OK PackageFile: COSNet_1.45.0.tgz PackageFileSize: 560.8 KiB