Package: COSNet Version: 1.45.0 Command: /Library/Frameworks/R.framework/Resources/bin/R CMD INSTALL COSNet StartedAt: 2025-11-14 15:04:50 -0500 (Fri, 14 Nov 2025) EndedAt: 2025-11-14 15:05:01 -0500 (Fri, 14 Nov 2025) EllapsedTime: 11.2 seconds RetCode: 0 Status: OK