Package: COSNet Version: 1.45.0 Command: /Library/Frameworks/R.framework/Resources/bin/R CMD build --keep-empty-dirs --no-resave-data COSNet StartedAt: 2025-11-14 15:59:44 -0500 (Fri, 14 Nov 2025) EndedAt: 2025-11-14 16:04:11 -0500 (Fri, 14 Nov 2025) EllapsedTime: 267.9 seconds RetCode: 0 Status: OK PackageFile: COSNet_1.45.0.tar.gz PackageFileSize: 520.2 KiB