Package: CNVMetrics Version: 1.13.0 Command: /home/biocbuild/bbs-3.22-bioc/R/bin/R CMD INSTALL CNVMetrics StartedAt: 2025-10-22 15:59:05 -0400 (Wed, 22 Oct 2025) EndedAt: 2025-10-22 15:59:16 -0400 (Wed, 22 Oct 2025) EllapsedTime: 11.6 seconds RetCode: 0 Status: OK