Package: CNVMetrics Version: 1.13.0 Command: /home/biocbuild/bbs-3.22-bioc/R/bin/R CMD build --keep-empty-dirs --no-resave-data --md5 CNVMetrics StartedAt: 2025-10-22 16:54:12 -0400 (Wed, 22 Oct 2025) EndedAt: 2025-10-22 16:54:52 -0400 (Wed, 22 Oct 2025) EllapsedTime: 40.0 seconds RetCode: 0 Status: OK PackageFile: CNVMetrics_1.13.0.tar.gz PackageFileSize: 4.691 MiB