Package: CNORode Version: 1.51.0 Command: /home/biocbuild/bbs-3.22-bioc/R/bin/R CMD INSTALL CNORode StartedAt: 2025-09-28 15:51:39 -0400 (Sun, 28 Sep 2025) EndedAt: 2025-09-28 15:51:55 -0400 (Sun, 28 Sep 2025) EllapsedTime: 16.6 seconds RetCode: 0 Status: OK