Package: CNORfuzzy Version: 1.53.0 Command: /home/biocbuild/bbs-3.23-bioc/R/bin/R CMD build --keep-empty-dirs --no-resave-data CNORfuzzy StartedAt: 2025-11-14 16:52:58 -0500 (Fri, 14 Nov 2025) EndedAt: 2025-11-14 16:53:20 -0500 (Fri, 14 Nov 2025) EllapsedTime: 22.0 seconds RetCode: 0 Status: OK PackageFile: CNORfuzzy_1.53.0.tar.gz PackageFileSize: 921.5 KiB