Package: CNORfuzzy Version: 1.51.0 Command: /Library/Frameworks/R.framework/Resources/bin/R CMD INSTALL CNORfuzzy StartedAt: 2025-10-05 15:20:17 -0400 (Sun, 05 Oct 2025) EndedAt: 2025-10-05 15:20:33 -0400 (Sun, 05 Oct 2025) EllapsedTime: 15.4 seconds RetCode: 0 Status: OK