Package: CNORfuzzy Version: 1.53.0 Maintainer: T. Cokelaer MaintainerEmail: cokelaer at ebi.ac.uk git_url: https://git.bioconductor.org/packages/CNORfuzzy git_branch: devel git_last_commit: 486e43d git_last_commit_date: 2025-10-29 10:11:51 -0400 (Wed, 29 Oct 2025)