Package: CCPlotR Version: 1.7.0 Command: /home/biocbuild/bbs-3.22-bioc/R/bin/R CMD INSTALL CCPlotR StartedAt: 2025-10-22 15:14:39 -0400 (Wed, 22 Oct 2025) EndedAt: 2025-10-22 15:14:52 -0400 (Wed, 22 Oct 2025) EllapsedTime: 12.1 seconds RetCode: 0 Status: OK