Package: CCPROMISE Version: 1.37.0 Command: /Library/Frameworks/R.framework/Resources/bin/R CMD INSTALL CCPROMISE StartedAt: 2025-11-21 15:30:55 -0500 (Fri, 21 Nov 2025) EndedAt: 2025-11-21 15:31:02 -0500 (Fri, 21 Nov 2025) EllapsedTime: 6.3 seconds RetCode: 0 Status: OK