Package: CCAFE Version: 1.1.0 Command: /home/biocbuild/bbs-3.22-bioc/R/bin/R CMD INSTALL CCAFE StartedAt: 2025-10-05 15:41:53 -0400 (Sun, 05 Oct 2025) EndedAt: 2025-10-05 15:41:56 -0400 (Sun, 05 Oct 2025) EllapsedTime: 3.1 seconds RetCode: 0 Status: OK