Package: CCAFE Version: 1.1.0 Command: /home/biocbuild/bbs-3.22-bioc/R/bin/R CMD build --keep-empty-dirs --no-resave-data --md5 CCAFE StartedAt: 2025-10-05 16:37:08 -0400 (Sun, 05 Oct 2025) EndedAt: 2025-10-05 16:38:24 -0400 (Sun, 05 Oct 2025) EllapsedTime: 76.0 seconds RetCode: 0 Status: OK PackageFile: CCAFE_1.1.0.tar.gz PackageFileSize: 5.681 MiB