Package: CBNplot Version: 1.11.0 Command: /home/biocbuild/bbs-3.23-bioc/R/bin/R CMD INSTALL CBNplot StartedAt: 2025-11-19 15:52:40 -0500 (Wed, 19 Nov 2025) EndedAt: 2025-11-19 15:53:10 -0500 (Wed, 19 Nov 2025) EllapsedTime: 30.4 seconds RetCode: 0 Status: OK