Package: CBNplot Version: 1.9.0 Command: /Library/Frameworks/R.framework/Resources/bin/R CMD INSTALL CBNplot StartedAt: 2025-10-08 15:49:24 -0400 (Wed, 08 Oct 2025) EndedAt: 2025-10-08 15:50:06 -0400 (Wed, 08 Oct 2025) EllapsedTime: 42.4 seconds RetCode: 0 Status: OK