Package: CBNplot Version: 1.9.0 Command: /Library/Frameworks/R.framework/Resources/bin/R CMD build --keep-empty-dirs --no-resave-data CBNplot StartedAt: 2025-10-08 16:23:40 -0400 (Wed, 08 Oct 2025) EndedAt: 2025-10-08 16:24:55 -0400 (Wed, 08 Oct 2025) EllapsedTime: 75.5 seconds RetCode: 0 Status: OK PackageFile: CBNplot_1.9.0.tar.gz PackageFileSize: 1.009 MiB