Package: CBNplot Version: 1.9.0 Command: rm -rf CBNplot.buildbin-libdir && mkdir CBNplot.buildbin-libdir && /Users/biocbuild/BBS/utils/build-universal.sh CBNplot_1.9.0.tar.gz /Library/Frameworks/R.framework/Resources/bin/R CBNplot.buildbin-libdir StartedAt: 2025-10-09 02:23:01 -0400 (Thu, 09 Oct 2025) EndedAt: 2025-10-09 02:23:46 -0400 (Thu, 09 Oct 2025) EllapsedTime: 45.5 seconds RetCode: 0 Status: OK PackageFile: CBNplot_1.9.0.tgz PackageFileSize: 1.147 MiB