Package: CBNplot Version: 1.9.0 Command: /Library/Frameworks/R.framework/Resources/bin/R CMD INSTALL CBNplot StartedAt: 2025-10-05 15:26:13 -0400 (Sun, 05 Oct 2025) EndedAt: 2025-10-05 15:26:24 -0400 (Sun, 05 Oct 2025) EllapsedTime: 11.6 seconds RetCode: 0 Status: OK