Package: CBNplot Version: 1.9.0 Command: /Library/Frameworks/R.framework/Resources/bin/R CMD build --keep-empty-dirs --no-resave-data CBNplot StartedAt: 2025-10-03 15:50:41 -0400 (Fri, 03 Oct 2025) EndedAt: 2025-10-03 15:51:11 -0400 (Fri, 03 Oct 2025) EllapsedTime: 29.3 seconds RetCode: 0 Status: OK PackageFile: CBNplot_1.9.0.tar.gz PackageFileSize: 984.8 KiB