Package: CBNplot Version: 1.9.0 Command: rm -rf CBNplot.buildbin-libdir && mkdir CBNplot.buildbin-libdir && /Users/biocbuild/BBS/utils/build-universal.sh CBNplot_1.9.0.tar.gz /Library/Frameworks/R.framework/Resources/bin/R CBNplot.buildbin-libdir StartedAt: 2025-10-03 22:33:07 -0400 (Fri, 03 Oct 2025) EndedAt: 2025-10-03 22:33:20 -0400 (Fri, 03 Oct 2025) EllapsedTime: 13.3 seconds RetCode: 0 Status: OK PackageFile: CBNplot_1.9.0.tgz PackageFileSize: 1.1 MiB