Package: CBNplot Version: 1.11.0 Maintainer: Noriaki Sato MaintainerEmail: nori at hgc.jp git_url: https://git.bioconductor.org/packages/CBNplot git_branch: devel git_last_commit: a7bbf54 git_last_commit_date: 2025-10-29 11:22:40 -0400 (Wed, 29 Oct 2025)