Package: BumpyMatrix Version: 1.19.0 Command: /home/biocbuild/bbs-3.23-bioc/R/bin/R CMD INSTALL BumpyMatrix StartedAt: 2025-11-07 15:14:24 -0500 (Fri, 07 Nov 2025) EndedAt: 2025-11-07 15:14:38 -0500 (Fri, 07 Nov 2025) EllapsedTime: 13.2 seconds RetCode: 0 Status: OK