Package: BumpyMatrix Version: 1.19.0 Command: /home/biocbuild/bbs-3.23-bioc/R/bin/R CMD build --keep-empty-dirs --no-resave-data BumpyMatrix StartedAt: 2025-11-07 16:33:45 -0500 (Fri, 07 Nov 2025) EndedAt: 2025-11-07 16:34:07 -0500 (Fri, 07 Nov 2025) EllapsedTime: 22.0 seconds RetCode: 0 Status: OK PackageFile: BumpyMatrix_1.19.0.tar.gz PackageFileSize: 317.6 KiB