Package: BumpyMatrix Version: 1.17.0 Command: /Library/Frameworks/R.framework/Resources/bin/R CMD INSTALL BumpyMatrix StartedAt: 2025-09-29 15:14:22 -0400 (Mon, 29 Sep 2025) EndedAt: 2025-09-29 15:14:45 -0400 (Mon, 29 Sep 2025) EllapsedTime: 22.6 seconds RetCode: 0 Status: OK