Package: BumpyMatrix Version: 1.17.0 Command: /Library/Frameworks/R.framework/Resources/bin/R CMD build --keep-empty-dirs --no-resave-data BumpyMatrix StartedAt: 2025-09-29 16:13:53 -0400 (Mon, 29 Sep 2025) EndedAt: 2025-09-29 16:14:21 -0400 (Mon, 29 Sep 2025) EllapsedTime: 27.4 seconds RetCode: 0 Status: OK PackageFile: BumpyMatrix_1.17.0.tar.gz PackageFileSize: 317.4 KiB