Package: BufferedMatrixMethods Version: 1.73.0 Command: /home/biocbuild/R/R/bin/R CMD INSTALL BufferedMatrixMethods StartedAt: 2025-10-02 20:17:31 -0000 (Thu, 02 Oct 2025) EndedAt: 2025-10-02 20:18:01 -0000 (Thu, 02 Oct 2025) EllapsedTime: 30.1 seconds RetCode: 0 Status: OK