Package: BufferedMatrixMethods Version: 1.73.0 Command: /home/biocbuild/R/R/bin/R CMD build --keep-empty-dirs --no-resave-data BufferedMatrixMethods StartedAt: 2025-10-02 22:28:15 -0000 (Thu, 02 Oct 2025) EndedAt: 2025-10-02 22:28:16 -0000 (Thu, 02 Oct 2025) EllapsedTime: 1.0 seconds RetCode: 0 Status: OK PackageFile: BufferedMatrixMethods_1.73.0.tar.gz PackageFileSize: 10.85 KiB