Package: BufferedMatrixMethods Version: 1.75.0 Command: /home/biocbuild/bbs-3.23-bioc/R/bin/R CMD INSTALL BufferedMatrixMethods StartedAt: 2025-11-05 15:09:29 -0500 (Wed, 05 Nov 2025) EndedAt: 2025-11-05 15:09:41 -0500 (Wed, 05 Nov 2025) EllapsedTime: 12.1 seconds RetCode: 0 Status: OK