Package: BufferedMatrixMethods Version: 1.75.0 Command: /home/biocbuild/bbs-3.23-bioc/R/bin/R CMD build --keep-empty-dirs --no-resave-data BufferedMatrixMethods StartedAt: 2025-11-05 16:40:16 -0500 (Wed, 05 Nov 2025) EndedAt: 2025-11-05 16:40:17 -0500 (Wed, 05 Nov 2025) EllapsedTime: 1.0 seconds RetCode: 0 Status: OK PackageFile: BufferedMatrixMethods_1.75.0.tar.gz PackageFileSize: 10.84 KiB