Package: BubbleTree Version: 2.41.0 Command: /home/biocbuild/bbs-3.23-bioc/R/bin/R CMD build --keep-empty-dirs --no-resave-data BubbleTree StartedAt: 2025-11-14 16:34:49 -0500 (Fri, 14 Nov 2025) EndedAt: 2025-11-14 16:36:05 -0500 (Fri, 14 Nov 2025) EllapsedTime: 76.1 seconds RetCode: 1 Status: ERROR PackageFile: None PackageFileSize: NA