Package: BubbleTree Version: 2.39.0 Command: /Library/Frameworks/R.framework/Resources/bin/R CMD build --keep-empty-dirs --no-resave-data BubbleTree StartedAt: 2025-10-23 15:48:51 -0400 (Thu, 23 Oct 2025) EndedAt: 2025-10-23 15:49:24 -0400 (Thu, 23 Oct 2025) EllapsedTime: 32.4 seconds RetCode: 1 Status: ERROR PackageFile: None PackageFileSize: NA