Package: BloodGen3Module Version: 1.19.0 Command: /Library/Frameworks/R.framework/Resources/bin/R CMD INSTALL BloodGen3Module StartedAt: 2025-11-17 15:23:05 -0500 (Mon, 17 Nov 2025) EndedAt: 2025-11-17 15:23:49 -0500 (Mon, 17 Nov 2025) EllapsedTime: 44.1 seconds RetCode: 0 Status: OK