Package: BloodGen3Module Version: 1.19.0 Command: rm -rf BloodGen3Module.buildbin-libdir && mkdir BloodGen3Module.buildbin-libdir && /Users/biocbuild/BBS/utils/build-universal.sh BloodGen3Module_1.19.0.tar.gz /Library/Frameworks/R.framework/Resources/bin/R BloodGen3Module.buildbin-libdir StartedAt: 2025-11-13 23:29:41 -0500 (Thu, 13 Nov 2025) EndedAt: 2025-11-13 23:29:58 -0500 (Thu, 13 Nov 2025) EllapsedTime: 17.4 seconds RetCode: 0 Status: OK PackageFile: BloodGen3Module_1.19.0.tgz PackageFileSize: 241.8 KiB