Package: BiocWorkflowTools Version: 1.37.0 Command: /Library/Frameworks/R.framework/Resources/bin/R CMD INSTALL BiocWorkflowTools StartedAt: 2025-11-25 15:06:50 -0500 (Tue, 25 Nov 2025) EndedAt: 2025-11-25 15:06:55 -0500 (Tue, 25 Nov 2025) EllapsedTime: 5.1 seconds RetCode: 0 Status: OK