Package: BiocParallel Version: 1.45.0 Command: /home/biocbuild/bbs-3.23-bioc/R/bin/R CMD INSTALL BiocParallel StartedAt: 2025-11-13 15:04:20 -0500 (Thu, 13 Nov 2025) EndedAt: 2025-11-13 15:04:35 -0500 (Thu, 13 Nov 2025) EllapsedTime: 14.1 seconds RetCode: 0 Status: OK