Package: BiocParallel Version: 1.43.4 Command: /Library/Frameworks/R.framework/Resources/bin/R CMD INSTALL BiocParallel StartedAt: 2025-10-16 15:15:00 -0400 (Thu, 16 Oct 2025) EndedAt: 2025-10-16 15:15:14 -0400 (Thu, 16 Oct 2025) EllapsedTime: 14.0 seconds RetCode: 0 Status: OK