Package: BiocParallel Version: 1.43.4 Command: /Library/Frameworks/R.framework/Resources/bin/R CMD build --keep-empty-dirs --no-resave-data BiocParallel StartedAt: 2025-10-16 15:57:53 -0400 (Thu, 16 Oct 2025) EndedAt: 2025-10-16 15:58:41 -0400 (Thu, 16 Oct 2025) EllapsedTime: 48.6 seconds RetCode: 0 Status: OK PackageFile: BiocParallel_1.43.4.tar.gz PackageFileSize: 1.052 MiB