Package: BiocFileCache Version: 2.99.6 Command: /Library/Frameworks/R.framework/Resources/bin/R CMD INSTALL BiocFileCache StartedAt: 2025-09-30 15:11:07 -0400 (Tue, 30 Sep 2025) EndedAt: 2025-09-30 15:11:40 -0400 (Tue, 30 Sep 2025) EllapsedTime: 32.6 seconds RetCode: 0 Status: OK