Package: BiocFileCache Version: 2.99.6 Command: /Library/Frameworks/R.framework/Resources/bin/R CMD build --keep-empty-dirs --no-resave-data BiocFileCache StartedAt: 2025-09-30 16:10:20 -0400 (Tue, 30 Sep 2025) EndedAt: 2025-09-30 16:13:01 -0400 (Tue, 30 Sep 2025) EllapsedTime: 160.4 seconds RetCode: 0 Status: OK PackageFile: BiocFileCache_2.99.6.tar.gz PackageFileSize: 725.6 KiB