Package: BiocFileCache Version: 2.99.6 Command: rm -rf BiocFileCache.buildbin-libdir && mkdir BiocFileCache.buildbin-libdir && /Users/biocbuild/BBS/utils/build-universal.sh BiocFileCache_2.99.6.tar.gz /Library/Frameworks/R.framework/Resources/bin/R BiocFileCache.buildbin-libdir StartedAt: 2025-10-01 01:31:57 -0400 (Wed, 01 Oct 2025) EndedAt: 2025-10-01 01:32:11 -0400 (Wed, 01 Oct 2025) EllapsedTime: 14.0 seconds RetCode: 0 Status: OK PackageFile: BiocFileCache_2.99.6.tgz PackageFileSize: 953 KiB