Package: BiocFileCache Version: 2.99.6 Command: /Library/Frameworks/R.framework/Resources/bin/R CMD build --keep-empty-dirs --no-resave-data BiocFileCache StartedAt: 2025-09-29 15:44:50 -0400 (Mon, 29 Sep 2025) EndedAt: 2025-09-29 15:45:18 -0400 (Mon, 29 Sep 2025) EllapsedTime: 28.3 seconds RetCode: 1 Status: ERROR PackageFile: None PackageFileSize: NA