Package: BiocBook Version: 1.7.0 Command: /home/biocbuild/bbs-3.22-bioc/R/bin/R CMD INSTALL BiocBook StartedAt: 2025-10-22 15:11:46 -0400 (Wed, 22 Oct 2025) EndedAt: 2025-10-22 15:11:52 -0400 (Wed, 22 Oct 2025) EllapsedTime: 5.3 seconds RetCode: 0 Status: OK