Package: BiocBaseUtils Version: 1.11.2 Command: /Library/Frameworks/R.framework/Resources/bin/R CMD INSTALL BiocBaseUtils StartedAt: 2025-10-08 15:08:51 -0400 (Wed, 08 Oct 2025) EndedAt: 2025-10-08 15:09:34 -0400 (Wed, 08 Oct 2025) EllapsedTime: 43.6 seconds RetCode: 0 Status: OK