Package: BiocBaseUtils Version: 1.11.2 Command: /Library/Frameworks/R.framework/Resources/bin/R CMD build --keep-empty-dirs --no-resave-data BiocBaseUtils StartedAt: 2025-10-08 16:15:15 -0400 (Wed, 08 Oct 2025) EndedAt: 2025-10-08 16:15:23 -0400 (Wed, 08 Oct 2025) EllapsedTime: 7.9 seconds RetCode: 0 Status: OK PackageFile: BiocBaseUtils_1.11.2.tar.gz PackageFileSize: 226.3 KiB