Package: BiocBaseUtils Version: 1.11.2 Command: /Library/Frameworks/R.framework/Resources/bin/R CMD INSTALL BiocBaseUtils StartedAt: 2025-10-03 15:01:47 -0400 (Fri, 03 Oct 2025) EndedAt: 2025-10-03 15:01:51 -0400 (Fri, 03 Oct 2025) EllapsedTime: 4.1 seconds RetCode: 0 Status: OK