Package: BiocBaseUtils Version: 1.11.2 Command: /Library/Frameworks/R.framework/Resources/bin/R CMD build --keep-empty-dirs --no-resave-data BiocBaseUtils StartedAt: 2025-10-03 15:44:47 -0400 (Fri, 03 Oct 2025) EndedAt: 2025-10-03 15:44:50 -0400 (Fri, 03 Oct 2025) EllapsedTime: 3.0 seconds RetCode: 0 Status: OK PackageFile: BiocBaseUtils_1.11.2.tar.gz PackageFileSize: 226.3 KiB