Package: BioTIP Version: 1.25.0 Command: /home/biocbuild/bbs-3.23-bioc/R/bin/R CMD build --keep-empty-dirs --no-resave-data BioTIP StartedAt: 2025-11-20 16:30:32 -0500 (Thu, 20 Nov 2025) EndedAt: 2025-11-20 16:32:02 -0500 (Thu, 20 Nov 2025) EllapsedTime: 90.1 seconds RetCode: 0 Status: OK PackageFile: BioTIP_1.25.0.tar.gz PackageFileSize: 8.645 MiB