Package: BioQC Version: 1.37.0 Command: /home/biocbuild/bbs-3.22-bioc/R/bin/R CMD build --keep-empty-dirs --no-resave-data --md5 BioQC StartedAt: 2025-10-03 16:28:11 -0400 (Fri, 03 Oct 2025) EndedAt: 2025-10-03 16:30:03 -0400 (Fri, 03 Oct 2025) EllapsedTime: 112.1 seconds RetCode: 0 Status: OK PackageFile: BioQC_1.37.0.tar.gz PackageFileSize: 4.303 MiB