Package: BioNet Version: 1.71.0 Command: /home/biocbuild/bbs-3.23-bioc/R/bin/R CMD INSTALL BioNet StartedAt: 2025-11-23 15:26:39 -0500 (Sun, 23 Nov 2025) EndedAt: 2025-11-23 15:26:52 -0500 (Sun, 23 Nov 2025) EllapsedTime: 13.4 seconds RetCode: 0 Status: OK